BEGIN:VCALENDAR
VERSION:2.0
PRODID:-//ChamberMaster//Event Calendar 2.0//EN
METHOD:PUBLISH
X-PUBLISHED-TTL:P1H
REFRESH-INTERVAL:P1H
CALSCALE:GREGORIAN
BEGIN:VTIMEZONE
TZID:America/New_York
BEGIN:DAYLIGHT
RRULE:FREQ=YEARLY;BYMONTH=3;BYDAY=2SU
DTSTART:20070101T000000
TZOFFSETFROM:-0500
TZOFFSETTO:-0400
TZNAME:Eastern Daylight Time
END:DAYLIGHT
BEGIN:STANDARD
RRULE:FREQ=YEARLY;BYMONTH=11;BYDAY=1SU
DTSTART:20070101T000000
TZOFFSETFROM:-0400
TZOFFSETTO:-0500
TZNAME:Eastern Standard Time
END:STANDARD
END:VTIMEZONE
BEGIN:VEVENT
DTSTART;TZID=America/New_York:20260604T160000
DTEND;TZID=America/New_York:20260604T180000
X-MICROSOFT-CDO-ALLDAYEVENT:FALSE
SUMMARY:Ribbon Cutting: St. Joe River Lodge
DESCRIPTION:Join us for a Ribbon Cutting Celebration at St. Joe River Lodge on Thursday\, June 4th\, from 4:00 6:00 PM\, located at 2801 Niles Buchanan Road\, Buchanan\, MI 49107\, as we welcome this stunning destination to the community. Guests are invited to enjoy an open house-style evening exploring the property\, networking\, and celebrating this exciting milestone. Speaking engagements will begin at 5:15 PM. Step into timeless luxury at St. Joe River Lodge Nestled along the tranquil St. Joseph River in Buchanan\, Michigan\, our historic estate offers 55 acres of breathtaking natural beauty\, refined spaces\, and unforgettable experiences. From elegant weddings and upscale retreats to intimate celebrations and peaceful escapes\, every gathering is surrounded by heritage\, charm and modern comfort. Indulge in serene landscapes\, meaningful moments\, and a destination designed to elevate your most special occasions. Buchanan\, Michigan Weddings | Retreats | Private Events | Getaways Book your experience: www.stjoeriverlodge.com We look forward to celebrating with you don't miss the opportunity to experience this remarkable property and help us officially cut the ribbon!
X-ALT-DESC;FMTTYPE=text/html:<!DOCTYPE html><html data-qb-installed="true"><head><title></title></head><body aria-disabled="false" data-gramm="false" data-lpop-hide-native-caret="" data-qb-tmp-id="lt-137790" spellcheck="false"><p>Join us for a Ribbon Cutting Celebration at St. Joe River Lodge on Thursday\, June 4th\, from 4:00&ndash\;6:00 PM\, located at 2801 Niles Buchanan Road\, Buchanan\, MI 49107\, as we welcome this stunning destination to the community. Guests are invited to enjoy an open house-style evening exploring the property\, networking\, and celebrating this exciting milestone. Speaking engagements will begin at 5:15 PM.&nbsp\;</p><p>Step into timeless luxury at St. Joe River Lodge Nestled along the tranquil St. Joseph River in Buchanan\, Michigan\, our historic estate offers 55 acres of breathtaking natural beauty\, refined spaces\, and unforgettable experiences. From elegant weddings and upscale retreats to intimate celebrations and peaceful escapes\, every gathering is surrounded by heritage\, charm and modern comfort.&nbsp\;</p><p>Indulge in serene landscapes\, meaningful moments\, and a destination designed to elevate your most special occasions.&nbsp\;</p><p>Buchanan\, Michigan&nbsp\;</p><p>Weddings | Retreats | Private Events | Getaways&nbsp\;</p><p>Book your experience: www.stjoeriverlodge.com&nbsp\;</p><p>We look forward to celebrating with you&mdash\;don&rsquo\;t miss the opportunity to experience this remarkable property and help us officially cut the ribbon!</p></body></html>
LOCATION:2801 Niles Buchanan Road Buchanan MI 49107
UID:e.3355.1416196
SEQUENCE:3
DTSTAMP:20260423T032236Z
URL:https://greaternileschamberofcommercemi.growthzoneapp.com/calendar/Details/ribbon-cutting-st-joe-river-lodge-1673789?sourceTypeId=Hub
END:VEVENT
END:VCALENDAR
