BEGIN:VCALENDAR
VERSION:2.0
PRODID:-//ChamberMaster//Event Calendar 2.0//EN
METHOD:PUBLISH
X-PUBLISHED-TTL:P1H
REFRESH-INTERVAL:P1H
CALSCALE:GREGORIAN
BEGIN:VTIMEZONE
TZID:America/New_York
BEGIN:DAYLIGHT
RRULE:FREQ=YEARLY;BYMONTH=3;BYDAY=2SU
DTSTART:20070101T000000
TZOFFSETFROM:-0500
TZOFFSETTO:-0400
TZNAME:Eastern Daylight Time
END:DAYLIGHT
BEGIN:STANDARD
RRULE:FREQ=YEARLY;BYMONTH=11;BYDAY=1SU
DTSTART:20070101T000000
TZOFFSETFROM:-0400
TZOFFSETTO:-0500
TZNAME:Eastern Standard Time
END:STANDARD
END:VTIMEZONE
BEGIN:VEVENT
DTSTART;TZID=America/New_York:20260416T160000
DTEND;TZID=America/New_York:20260416T174500
X-MICROSOFT-CDO-ALLDAYEVENT:FALSE
SUMMARY:Third Thursdays: 2 Ten Main / Economic Vitality Group
DESCRIPTION:Join Niles Chamber members every third Thursday from 4:00 to 5:45pm through November. Third Thursdays is a networking experience designed to connect professionals in a relaxed\, inviting setting. Whether you're a seasoned entrepreneur or an emerging professional\, this is your chance to expand your network\, exchange ideas\, and explore potential collaborations all while enjoying some of the hottest spots in town.April's event is hosted by 2 Ten Main in partnership with the Niles Main Street DDA's Economic Vitality Group.\nLocated in the heart of downtown Niles\, 2 Ten Main is a vibrant coworking and event space designed to bring professionals together. With modern meeting rooms\, collaborative workspaces\, and a welcoming atmosphere\, it's the perfect place to network\, spark ideas\, and grow connections.\nWhether you're a business owner\, entrepreneur\, or community member\, this is a great opportunity to meet like-minded individuals\, learn more about local initiatives\, and experience one of downtown Niles' premier collaborative spaces.\nCome enjoy light refreshments\, meaningful conversations\, and an engaging evening focused on strengthening our local business community.\nInterested in being a host? Contact Jasmine at jhansen@smrchamber.com
X-ALT-DESC;FMTTYPE=text/html:<!DOCTYPE html><html data-qb-installed="true"><head><title></title></head><body aria-disabled="false" data-gramm="false" data-lpop-hide-native-caret="" data-qb-tmp-id="lt-149196" spellcheck="false"><p><span style="font-family: Arial\, Helvetica\, sans-serif\;"><span style="font-size: 14px\; color: rgb(22\, 22\, 22)\; caret-color: rgba(0\, 0\, 0\, 0) !important\;">Join Niles Chamber members every third Thursday from 4:00 to 5:45pm through November. Third Thursdays is a networking experience designed to connect professionals in a relaxed\, inviting setting. Whether you&#39\;re a seasoned entrepreneur or an emerging professional\, this is your chance to expand your network\, exchange ideas\, and explore potential collaborations&mdash\;all while enjoying some of the hottest spots in town.</span></span></p><p style="margin: 0px\; padding: 0px\; caret-color: rgba(0\, 0\, 0\, 0)\; color: rgb(64\, 63\, 66)\; font-family: Arial\, Verdana\, Helvetica\, sans-serif\; font-size: 12px\; font-style: normal\; font-variant-ligatures: normal\; font-variant-caps: normal\; font-weight: 400\; letter-spacing: normal\; orphans: 2\; text-align: left\; text-indent: 0px\; text-transform: none\; widows: 2\; word-spacing: 0px\; -webkit-text-stroke-width: 0px\; white-space: pre-wrap\; background-color: rgb(255\, 255\, 255)\; text-decoration-thickness: initial\; text-decoration-style: initial\; text-decoration-color: initial\;"><span style="font-size: 14px\;"><span style="font-family: Arial\,Helvetica\,sans-serif\;"><span style="color: rgb(22\, 22\, 22)\; caret-color: rgba(0\, 0\, 0\, 0) !important\;">April&rsquo\;s&nbsp\;event is hosted by 2 Ten Main in partnership with the Niles Main Street DDA&rsquo\;s Economic Vitality Group.</span></span></span></p><p style="margin: 0px\; padding: 0px\; caret-color: rgba(0\, 0\, 0\, 0)\; color: rgb(64\, 63\, 66)\; font-family: Arial\, Verdana\, Helvetica\, sans-serif\; font-size: 12px\; font-style: normal\; font-variant-ligatures: normal\; font-variant-caps: normal\; font-weight: 400\; letter-spacing: normal\; orphans: 2\; text-align: left\; text-indent: 0px\; text-transform: none\; widows: 2\; word-spacing: 0px\; -webkit-text-stroke-width: 0px\; white-space: pre-wrap\; background-color: rgb(255\, 255\, 255)\; text-decoration-thickness: initial\; text-decoration-style: initial\; text-decoration-color: initial\;"><span style="font-size: 14px\;"><span style="font-family: Arial\,Helvetica\,sans-serif\;"><br style="caret-color: rgba(0\, 0\, 0\, 0) !important\;"></span></span></p><p style="margin: 0px\; padding: 0px\; caret-color: rgba(0\, 0\, 0\, 0)\; color: rgb(64\, 63\, 66)\; font-family: Arial\, Verdana\, Helvetica\, sans-serif\; font-size: 12px\; font-style: normal\; font-variant-ligatures: normal\; font-variant-caps: normal\; font-weight: 400\; letter-spacing: normal\; orphans: 2\; text-align: left\; text-indent: 0px\; text-transform: none\; widows: 2\; word-spacing: 0px\; -webkit-text-stroke-width: 0px\; white-space: pre-wrap\; background-color: rgb(255\, 255\, 255)\; text-decoration-thickness: initial\; text-decoration-style: initial\; text-decoration-color: initial\;"><span style="font-size: 14px\;"><span style="font-family: Arial\,Helvetica\,sans-serif\;"><span style="color: rgb(22\, 22\, 22)\; caret-color: rgba(0\, 0\, 0\, 0) !important\;">Located in the heart of downtown Niles\, 2 Ten Main is a vibrant coworking and event space designed to bring professionals together. With modern meeting rooms\, collaborative workspaces\, and a welcoming atmosphere\, it&rsquo\;s the perfect place to network\, spark ideas\, and grow connections.</span></span></span></p><p style="margin: 0px\; padding: 0px\; caret-color: rgba(0\, 0\, 0\, 0)\; color: rgb(64\, 63\, 66)\; font-family: Arial\, Verdana\, Helvetica\, sans-serif\; font-size: 12px\; font-style: normal\; font-variant-ligatures: normal\; font-variant-caps: normal\; font-weight: 400\; letter-spacing: normal\; orphans: 2\; text-align: left\; text-indent: 0px\; text-transform: none\; widows: 2\; word-spacing: 0px\; -webkit-text-stroke-width: 0px\; white-space: pre-wrap\; background-color: rgb(255\, 255\, 255)\; text-decoration-thickness: initial\; text-decoration-style: initial\; text-decoration-color: initial\;"><span style="font-size: 14px\;"><span style="font-family: Arial\,Helvetica\,sans-serif\;"><br style="caret-color: rgba(0\, 0\, 0\, 0) !important\;"></span></span></p><p style="margin: 0px\; padding: 0px\; caret-color: rgba(0\, 0\, 0\, 0)\; color: rgb(64\, 63\, 66)\; font-family: Arial\, Verdana\, Helvetica\, sans-serif\; font-size: 12px\; font-style: normal\; font-variant-ligatures: normal\; font-variant-caps: normal\; font-weight: 400\; letter-spacing: normal\; orphans: 2\; text-align: left\; text-indent: 0px\; text-transform: none\; widows: 2\; word-spacing: 0px\; -webkit-text-stroke-width: 0px\; white-space: pre-wrap\; background-color: rgb(255\, 255\, 255)\; text-decoration-thickness: initial\; text-decoration-style: initial\; text-decoration-color: initial\;"><span style="font-size: 14px\;"><span style="font-family: Arial\,Helvetica\,sans-serif\;"><span style="color: rgb(22\, 22\, 22)\; caret-color: rgba(0\, 0\, 0\, 0) !important\;">Whether you&#39\;re a business owner\, entrepreneur\, or community member\, this is a great opportunity to meet like-minded individuals\, learn more about local initiatives\, and experience one of downtown Niles&rsquo\; premier collaborative spaces.</span></span></span></p><p style="margin: 0px\; padding: 0px\; caret-color: rgba(0\, 0\, 0\, 0)\; color: rgb(64\, 63\, 66)\; font-family: Arial\, Verdana\, Helvetica\, sans-serif\; font-size: 12px\; font-style: normal\; font-variant-ligatures: normal\; font-variant-caps: normal\; font-weight: 400\; letter-spacing: normal\; orphans: 2\; text-align: left\; text-indent: 0px\; text-transform: none\; widows: 2\; word-spacing: 0px\; -webkit-text-stroke-width: 0px\; white-space: pre-wrap\; background-color: rgb(255\, 255\, 255)\; text-decoration-thickness: initial\; text-decoration-style: initial\; text-decoration-color: initial\;"><span style="font-size: 14px\;"><span style="font-family: Arial\,Helvetica\,sans-serif\;"><br style="caret-color: rgba(0\, 0\, 0\, 0) !important\;"></span></span></p><p style="margin: 0px\; padding: 0px\; caret-color: rgba(0\, 0\, 0\, 0)\; color: rgb(64\, 63\, 66)\; font-family: Arial\, Verdana\, Helvetica\, sans-serif\; font-size: 12px\; font-style: normal\; font-variant-ligatures: normal\; font-variant-caps: normal\; font-weight: 400\; letter-spacing: normal\; orphans: 2\; text-align: left\; text-indent: 0px\; text-transform: none\; widows: 2\; word-spacing: 0px\; -webkit-text-stroke-width: 0px\; white-space: pre-wrap\; background-color: rgb(255\, 255\, 255)\; text-decoration-thickness: initial\; text-decoration-style: initial\; text-decoration-color: initial\;"><span style="font-size: 14px\;"><span style="font-family: Arial\,Helvetica\,sans-serif\;"><span style="color: rgb(22\, 22\, 22)\; caret-color: rgba(0\, 0\, 0\, 0) !important\;">Come enjoy light refreshments\, meaningful conversations\, and an engaging evening focused on strengthening our local business community.</span></span></span></p><p style="margin: 0px\; padding: 0px\; caret-color: rgba(0\, 0\, 0\, 0)\; color: rgb(64\, 63\, 66)\; font-family: Arial\, Verdana\, Helvetica\, sans-serif\; font-size: 12px\; font-style: normal\; font-variant-ligatures: normal\; font-variant-caps: normal\; font-weight: 400\; letter-spacing: normal\; orphans: 2\; text-align: left\; text-indent: 0px\; text-transform: none\; widows: 2\; word-spacing: 0px\; -webkit-text-stroke-width: 0px\; white-space: pre-wrap\; background-color: rgb(255\, 255\, 255)\; text-decoration-thickness: initial\; text-decoration-style: initial\; text-decoration-color: initial\;"><span style="font-size: 14px\;"><span style="font-family: Arial\,Helvetica\,sans-serif\;"><br style="caret-color: rgba(0\, 0\, 0\, 0) !important\;"></span></span></p><p style="margin: 0px\; padding: 0px\; caret-color: rgba(0\, 0\, 0\, 0)\; color: rgb(64\, 63\, 66)\; font-family: Arial\, Verdana\, Helvetica\, sans-serif\; font-size: 12px\; font-style: normal\; font-variant-ligatures: normal\; font-variant-caps: normal\; font-weight: 400\; letter-spacing: normal\; orphans: 2\; text-align: left\; text-indent: 0px\; text-transform: none\; widows: 2\; word-spacing: 0px\; -webkit-text-stroke-width: 0px\; white-space: pre-wrap\; background-color: rgb(255\, 255\, 255)\; text-decoration-thickness: initial\; text-decoration-style: initial\; text-decoration-color: initial\;"><span style="font-size: 14px\;"><span style="font-family: Arial\,Helvetica\,sans-serif\;"><span style="color: rgb(22\, 22\, 22)\; caret-color: rgba(0\, 0\, 0\, 0) !important\;">Interested in being a host? Contact Jasmine at&nbsp\;</span></span></span><a data-link-type="email" fr-original-style="text-decoration: underline\; color: rgb(22\, 22\, 22)\; font-weight: normal\; font-style: normal\; caret-color: rgba(0\, 0\, 0\, 0) !important\; font-size: 14px\; font-family: Arial\, Verdana\, Helvetica\, sans-serif\;" href="mailto:jhansen@smrchamber.com" rel="noopener noreferrer" style="text-decoration: underline\; color: rgb(22\, 22\, 22)\; font-weight: normal\; font-style: normal\; font-size: 14px\; font-family: Arial\, Verdana\, Helvetica\, sans-serif\; caret-color: rgba(0\, 0\, 0\, 0) !important\; user-select: auto\;" target="_blank"><span style="font-family: Arial\, Helvetica\, sans-serif\; font-size: 14px\;">jhansen@smrchamber.com</span></a></p></body></html>
LOCATION:Niles MI 49120
UID:e.3355.1416070
SEQUENCE:3
DTSTAMP:20260423T032236Z
URL:https://greaternileschamberofcommercemi.growthzoneapp.com/calendar/Details/third-thursdays-2-ten-main-economic-vitality-group-1673648?sourceTypeId=Hub
END:VEVENT
END:VCALENDAR
