BEGIN:VCALENDAR
VERSION:2.0
PRODID:-//ChamberMaster//Event Calendar 2.0//EN
METHOD:PUBLISH
X-PUBLISHED-TTL:P1H
REFRESH-INTERVAL:P1H
CALSCALE:GREGORIAN
BEGIN:VTIMEZONE
TZID:America/New_York
BEGIN:DAYLIGHT
RRULE:FREQ=YEARLY;BYMONTH=3;BYDAY=2SU
DTSTART:20070101T000000
TZOFFSETFROM:-0500
TZOFFSETTO:-0400
TZNAME:Eastern Daylight Time
END:DAYLIGHT
BEGIN:STANDARD
RRULE:FREQ=YEARLY;BYMONTH=11;BYDAY=1SU
DTSTART:20070101T000000
TZOFFSETFROM:-0400
TZOFFSETTO:-0500
TZNAME:Eastern Standard Time
END:STANDARD
END:VTIMEZONE
BEGIN:VEVENT
DTSTART;TZID=America/New_York:20260820T160000
DTEND;TZID=America/New_York:20260820T174500
X-MICROSOFT-CDO-ALLDAYEVENT:FALSE
SUMMARY:Third Thursdays: St. Joe River Lodge
DESCRIPTION:Join Niles Chamber members every third Thursday from 4:00 to 5:45pm through November. Third Thursdays is a networking experience designed to connect professionals in a relaxed\, inviting setting. Whether you're a seasoned entrepreneur or an emerging professional\, this is your chance to expand your network\, exchange ideas\, and explore potential collaborations all while enjoying some of the hottest spots in town.August's Third Thursday has us stepping into timeless luxury at St. Joe River Lodge! \nNestled along the tranquil St. Joseph River in Buchanan\, Michigan\, our historic estate offers 55 acres of breathtaking natural beauty\, refined spaces\, and unforgettable experiences. From elegant weddings and upscale retreats to intimate celebrations and peaceful escapes\, every gathering is surrounded by heritage\, charm and modern comfort.\n\nIndulge in serene landscapes\, meaningful moments\, and a destination designed to elevate your most special occasions.\n\nBuchanan\, Michigan\nWeddings | Retreats | Private Events | Getaways\nBook your experience: www.stjoeriverlodge.com
X-ALT-DESC;FMTTYPE=text/html:<!DOCTYPE html><html data-qb-installed="true"><head><title></title></head><body aria-disabled="false" data-gramm="false" data-lpop-hide-native-caret="" data-qb-tmp-id="lt-799818" spellcheck="false"><p><span style="color: rgb(0\, 0\, 0)\;"><span style="font-family: Arial\, Helvetica\, sans-serif\; font-size: 14px\; background-color: rgb(255\, 255\, 255)\;">Join Niles Chamber members every third Thursday from 4:00 to 5:45pm through November. Third Thursdays is a networking experience designed to connect professionals in a relaxed\, inviting setting. Whether you&#39\;re a seasoned entrepreneur or an emerging professional\, this is your chance to expand your network\, exchange ideas\, and explore potential collaborations&mdash\;all while enjoying some of the hottest spots in town.</span></span></p><p><span style="color: rgb(0\, 0\, 0)\;"><span style="font-size: 14px\;\;background-color: rgb(255\, 255\, 255)\;"><span style="font-family: Arial\,Helvetica\,sans-serif\;"><meta charset="utf-8"><span style="font-style: normal\; font-variant-ligatures: no-contextual\; font-variant-caps: normal\; font-weight: 400\; letter-spacing: normal\; orphans: 2\; text-align: start\; text-indent: 0px\; text-transform: none\; widows: 2\; word-spacing: 0px\; -webkit-text-stroke-width: 0px\; caret-color: rgba(0\, 0\, 0\, 0)\; white-space: normal\; text-decoration-thickness: initial\; text-decoration-style: initial\; text-decoration-color: initial\; float: none\; display: inline !important\;">August&#39\;s Third Thursday has us stepping into timeless luxury at St. Joe River Lodge!&nbsp\;</span><br style="caret-color: rgba(0\, 0\, 0\, 0)\; color: rgb(31\, 31\, 31)\; font-family: &quot\;Google Sans Text&quot\;\, &quot\;Google Sans&quot\;\, Helvetica\, Arial\, sans-serif\; font-size: 14px\; font-style: normal\; font-variant-ligatures: no-contextual\; font-variant-caps: normal\; font-weight: 400\; letter-spacing: normal\; orphans: 2\; text-align: start\; text-indent: 0px\; text-transform: none\; widows: 2\; word-spacing: 0px\; -webkit-text-stroke-width: 0px\; white-space: normal\; background-color: rgb(233\, 238\, 246)\; text-decoration-thickness: initial\; text-decoration-style: initial\; text-decoration-color: initial\;"><span style="font-style: normal\; font-variant-ligatures: no-contextual\; font-variant-caps: normal\; font-weight: 400\; letter-spacing: normal\; orphans: 2\; text-align: start\; text-indent: 0px\; text-transform: none\; widows: 2\; word-spacing: 0px\; -webkit-text-stroke-width: 0px\; caret-color: rgba(0\, 0\, 0\, 0)\; white-space: normal\; text-decoration-thickness: initial\; text-decoration-style: initial\; text-decoration-color: initial\; float: none\; display: inline !important\;">Nestled along the tranquil St. Joseph River in Buchanan\, Michigan\, our historic estate offers 55 acres of breathtaking natural beauty\, refined spaces\, and unforgettable experiences. From elegant weddings and upscale retreats to intimate celebrations and peaceful escapes\, every gathering is surrounded by heritage\, charm and modern comfort.</span><br style="caret-color: rgba(0\, 0\, 0\, 0)\; color: rgb(31\, 31\, 31)\; font-family: &quot\;Google Sans Text&quot\;\, &quot\;Google Sans&quot\;\, Helvetica\, Arial\, sans-serif\; font-size: 14px\; font-style: normal\; font-variant-ligatures: no-contextual\; font-variant-caps: normal\; font-weight: 400\; letter-spacing: normal\; orphans: 2\; text-align: start\; text-indent: 0px\; text-transform: none\; widows: 2\; word-spacing: 0px\; -webkit-text-stroke-width: 0px\; white-space: normal\; background-color: rgb(233\, 238\, 246)\; text-decoration-thickness: initial\; text-decoration-style: initial\; text-decoration-color: initial\;"><br style="caret-color: rgba(0\, 0\, 0\, 0)\; color: rgb(31\, 31\, 31)\; font-family: &quot\;Google Sans Text&quot\;\, &quot\;Google Sans&quot\;\, Helvetica\, Arial\, sans-serif\; font-size: 14px\; font-style: normal\; font-variant-ligatures: no-contextual\; font-variant-caps: normal\; font-weight: 400\; letter-spacing: normal\; orphans: 2\; text-align: start\; text-indent: 0px\; text-transform: none\; widows: 2\; word-spacing: 0px\; -webkit-text-stroke-width: 0px\; white-space: normal\; background-color: rgb(233\, 238\, 246)\; text-decoration-thickness: initial\; text-decoration-style: initial\; text-decoration-color: initial\;"><span style="font-style: normal\; font-variant-ligatures: no-contextual\; font-variant-caps: normal\; font-weight: 400\; letter-spacing: normal\; orphans: 2\; text-align: start\; text-indent: 0px\; text-transform: none\; widows: 2\; word-spacing: 0px\; -webkit-text-stroke-width: 0px\; caret-color: rgba(0\, 0\, 0\, 0)\; white-space: normal\; text-decoration-thickness: initial\; text-decoration-style: initial\; text-decoration-color: initial\; float: none\; display: inline !important\;">Indulge in serene landscapes\, meaningful moments\, and a destination designed to elevate your most special occasions.</span><br style="caret-color: rgba(0\, 0\, 0\, 0)\; color: rgb(31\, 31\, 31)\; font-family: &quot\;Google Sans Text&quot\;\, &quot\;Google Sans&quot\;\, Helvetica\, Arial\, sans-serif\; font-size: 14px\; font-style: normal\; font-variant-ligatures: no-contextual\; font-variant-caps: normal\; font-weight: 400\; letter-spacing: normal\; orphans: 2\; text-align: start\; text-indent: 0px\; text-transform: none\; widows: 2\; word-spacing: 0px\; -webkit-text-stroke-width: 0px\; white-space: normal\; background-color: rgb(233\, 238\, 246)\; text-decoration-thickness: initial\; text-decoration-style: initial\; text-decoration-color: initial\;"><br style="caret-color: rgba(0\, 0\, 0\, 0)\; color: rgb(31\, 31\, 31)\; font-family: &quot\;Google Sans Text&quot\;\, &quot\;Google Sans&quot\;\, Helvetica\, Arial\, sans-serif\; font-size: 14px\; font-style: normal\; font-variant-ligatures: no-contextual\; font-variant-caps: normal\; font-weight: 400\; letter-spacing: normal\; orphans: 2\; text-align: start\; text-indent: 0px\; text-transform: none\; widows: 2\; word-spacing: 0px\; -webkit-text-stroke-width: 0px\; white-space: normal\; background-color: rgb(233\, 238\, 246)\; text-decoration-thickness: initial\; text-decoration-style: initial\; text-decoration-color: initial\;"><span style="font-style: normal\; font-variant-ligatures: no-contextual\; font-variant-caps: normal\; font-weight: 400\; letter-spacing: normal\; orphans: 2\; text-align: start\; text-indent: 0px\; text-transform: none\; widows: 2\; word-spacing: 0px\; -webkit-text-stroke-width: 0px\; caret-color: rgba(0\, 0\, 0\, 0)\; white-space: normal\; text-decoration-thickness: initial\; text-decoration-style: initial\; text-decoration-color: initial\; float: none\; display: inline !important\;">Buchanan\, Michigan</span><br style="caret-color: rgba(0\, 0\, 0\, 0)\; color: rgb(31\, 31\, 31)\; font-family: &quot\;Google Sans Text&quot\;\, &quot\;Google Sans&quot\;\, Helvetica\, Arial\, sans-serif\; font-size: 14px\; font-style: normal\; font-variant-ligatures: no-contextual\; font-variant-caps: normal\; font-weight: 400\; letter-spacing: normal\; orphans: 2\; text-align: start\; text-indent: 0px\; text-transform: none\; widows: 2\; word-spacing: 0px\; -webkit-text-stroke-width: 0px\; white-space: normal\; background-color: rgb(233\, 238\, 246)\; text-decoration-thickness: initial\; text-decoration-style: initial\; text-decoration-color: initial\;"><span style="font-style: normal\; font-variant-ligatures: no-contextual\; font-variant-caps: normal\; font-weight: 400\; letter-spacing: normal\; orphans: 2\; text-align: start\; text-indent: 0px\; text-transform: none\; widows: 2\; word-spacing: 0px\; -webkit-text-stroke-width: 0px\; caret-color: rgba(0\, 0\, 0\, 0)\; white-space: normal\; text-decoration-thickness: initial\; text-decoration-style: initial\; text-decoration-color: initial\; float: none\; display: inline !important\;">Weddings | Retreats | Private Events | Getaways</span><br style="caret-color: rgba(0\, 0\, 0\, 0)\; color: rgb(31\, 31\, 31)\; font-family: &quot\;Google Sans Text&quot\;\, &quot\;Google Sans&quot\;\, Helvetica\, Arial\, sans-serif\; font-size: 14px\; font-style: normal\; font-variant-ligatures: no-contextual\; font-variant-caps: normal\; font-weight: 400\; letter-spacing: normal\; orphans: 2\; text-align: start\; text-indent: 0px\; text-transform: none\; widows: 2\; word-spacing: 0px\; -webkit-text-stroke-width: 0px\; white-space: normal\; background-color: rgb(233\, 238\, 246)\; text-decoration-thickness: initial\; text-decoration-style: initial\; text-decoration-color: initial\;"><span style="font-style: normal\; font-variant-ligatures: no-contextual\; font-variant-caps: normal\; font-weight: 400\; letter-spacing: normal\; orphans: 2\; text-align: start\; text-indent: 0px\; text-transform: none\; widows: 2\; word-spacing: 0px\; -webkit-text-stroke-width: 0px\; caret-color: rgba(0\, 0\, 0\, 0)\; white-space: normal\; text-decoration-thickness: initial\; text-decoration-style: initial\; text-decoration-color: initial\; float: none\; display: inline !important\;">Book your experience:&nbsp\;</span></span></span><a fr-original-style='text-decoration: underline\; color: rgb(11\, 87\, 208)\; cursor: auto\; caret-color: rgba(0\, 0\, 0\, 0)\; font-family: "Google Sans Text"\, "Google Sans"\, Helvetica\, Arial\, sans-serif\; font-size: 14px\; font-style: normal\; font-variant-ligatures: no-contextual\; font-variant-caps: normal\; font-weight: 400\; letter-spacing: normal\; orphans: 2\; text-align: start\; text-indent: 0px\; text-transform: none\; widows: 2\; word-spacing: 0px\; -webkit-text-stroke-width: 0px\; white-space: normal\; background-color: rgb(233\, 238\, 246)\;' href="http://www.stjoeriverlodge.com/" style='text-decoration: underline\; color: rgb(11\, 87\, 208)\; cursor: auto\; caret-color: rgba(0\, 0\, 0\, 0)\; font-family: "Google Sans Text"\, "Google Sans"\, Helvetica\, Arial\, sans-serif\; font-size: 14px\; font-style: normal\; font-variant-ligatures: no-contextual\; font-variant-caps: normal\; font-weight: 400\; letter-spacing: normal\; orphans: 2\; text-align: start\; text-indent: 0px\; text-transform: none\; widows: 2\; word-spacing: 0px\; -webkit-text-stroke-width: 0px\; white-space: normal\; background-color: rgb(233\, 238\, 246)\; user-select: auto\;' target="_blank"><span style="font-family: Arial\, Helvetica\, sans-serif\; font-size: 14px\; background-color: rgb(255\, 255\, 255)\;">www.stjoeriverlodge.com</span></a></span></p></body></html>
LOCATION:2801 Niles Buchanan Road Buchanan MI 49107
UID:e.3355.1416109
SEQUENCE:3
DTSTAMP:20260423T032236Z
URL:https://greaternileschamberofcommercemi.growthzoneapp.com/calendar/Details/third-thursdays-st-joe-river-lodge-1673687?sourceTypeId=Hub
END:VEVENT
END:VCALENDAR
